View In:
ArcGIS JavaScript
ArcGIS Online Map Viewer
ArcGIS Earth
ArcGIS Pro
Service Description: <DIV STYLE="text-align:Left;font-size:12pt"><DIV><P><SPAN>Police Beats, Tiled to 1:282, WGS84. June 2023: convert to Pro/SQL2022, store data in CA SP Z3 (2227), add background to label.</SPAN></P></DIV></DIV>
Map Name: Police Beats
Legend
All Layers and Tables
Dynamic Legend
Dynamic All Layers
Layers:
Description: Police Beats, Tiled to 1:282, WGS84. June 2023: convert to Pro/SQL2022, store data in CA SP Z3 (2227), add background to label.
Service Item Id: d7f882056d3849d5a01dac2c1206d110
Copyright Text:
Spatial Reference:
102100
(3857)
LatestVCSWkid(0)
Single Fused Map Cache: true
Tile Info:
- Height: 256.0
- Width: 256.0
- DPI: 96.0
-
Levels of Detail: 24
-
Level ID: 1
[ Start Tile, End Tile ]
- Resolution: 78271.5169639999
- Scale: 2.95828763795777E8
-
Level ID: 2
[ Start Tile, End Tile ]
- Resolution: 39135.7584820001
- Scale: 1.47914381897889E8
-
Level ID: 3
[ Start Tile, End Tile ]
- Resolution: 19567.8792409999
- Scale: 7.3957190948944E7
-
Level ID: 4
[ Start Tile, End Tile ]
- Resolution: 9783.93962049996
- Scale: 3.6978595474472E7
-
Level ID: 5
[ Start Tile, End Tile ]
- Resolution: 4891.96981024998
- Scale: 1.8489297737236E7
- Format: PNG
- Compression Quality: 0.0
- Origin: X: -2.0037508342787E7
Y: 2.0037508342787E7
- Spatial Reference: 102100
(3857)
LatestVCSWkid(0)
Storage Info:
- Storage Format: esriMapCacheStorageModeCompactV2
- Packet Size: 128
Initial Extent:
XMin: -1.3581938868003076E7
YMin: 4473932.221592993
XMax: -1.3570007929896923E7
YMax: 4482673.805907004
Spatial Reference: 102100
(0)
LatestVCSWkid(0)
Full Extent:
XMin: -1.3581938868003076E7
YMin: 4474251.837004999
XMax: -1.3570007929896925E7
YMax: 4482354.190494997
Spatial Reference: 102100
(0)
LatestVCSWkid(0)
Units: esriMeters
Supported Image Format Types: PNG32,PNG24,PNG,JPG,DIB,TIFF,EMF,PS,PDF,GIF,SVG,SVGZ,BMP
Document Info:
Title: Campbell Police Beats
Author:
Comments: Police Beats, Tiled to 1:282, WGS84. June 2023: convert to Pro/SQL2022, store data in CA SP Z3 (2227), add background to label.
Subject: Police Beats, Tiled to 1:282, WGS84. June 2023: convert to Pro/SQL2022, store data in CA SP Z3 (2227).
Category:
Keywords: City of Campbell,Police Beats
AntialiasingMode: Fast
TextAntialiasingMode: Force
Supports Dynamic Layers: true
Resampling: false
MaxRecordCount: 2000
MaxSelectionCount: 2000
MaxImageHeight: 4096
MaxImageWidth: 4096
Supported Query Formats: JSON, geoJSON, PBF
Supports Query Data Elements: true
Min Scale: 144447.638572
Max Scale: 282.124294
Min LOD: 12
Max LOD: 21
Supports Datum Transformation: true
Child Resources:
Info
Dynamic Layer
Supported Operations:
Export Map
Identify
QueryLegends
QueryDomains
Find
Return Updates