View In:
ArcGIS JavaScript
ArcGIS Online Map Viewer
ArcGIS Earth
ArcGIS Pro
Service Description: <div style='text-align:Left;font-size:12pt'><p><span>Zoning Labels Map: Annotation 0 to 10K, Auto-labeled >10K. Tiled service (144K to 282), Web Mercator (WKID3857), data stored in local projection (2227).</span></p></div>
Map Name: ZoningLabels
Legend
All Layers and Tables
Dynamic Legend
Dynamic All Layers
Layers:
Description: Zoning Labels Map: Annotation 0 to 10K, Auto-labeled >10K. Tiled service (144K to 282), Web Mercator (WKID3857), data stored in local projection (2227).
Service Item Id: 149b9d532f704d5b98298b736fe4dbb3
Copyright Text:
Spatial Reference:
102100
(3857)
LatestVCSWkid(0)
Single Fused Map Cache: true
Tile Info:
- Height: 256.0
- Width: 256.0
- DPI: 96.0
-
Levels of Detail: 24
-
Level ID: 1
[ Start Tile, End Tile ]
- Resolution: 78271.5169639999
- Scale: 2.95828763795777E8
-
Level ID: 2
[ Start Tile, End Tile ]
- Resolution: 39135.7584820001
- Scale: 1.47914381897889E8
-
Level ID: 3
[ Start Tile, End Tile ]
- Resolution: 19567.8792409999
- Scale: 7.3957190948944E7
-
Level ID: 4
[ Start Tile, End Tile ]
- Resolution: 9783.93962049996
- Scale: 3.6978595474472E7
-
Level ID: 5
[ Start Tile, End Tile ]
- Resolution: 4891.96981024998
- Scale: 1.8489297737236E7
- Format: PNG
- Compression Quality: 0.0
- Origin: X: -2.0037508342787E7
Y: 2.0037508342787E7
- Spatial Reference: 102100
(3857)
LatestVCSWkid(0)
Storage Info:
- Storage Format: esriMapCacheStorageModeCompactV2
- Packet Size: 128
Initial Extent:
XMin: -1.3580977876958821E7
YMin: 4474361.633412661
XMax: -1.3570995127826657E7
YMax: 4482219.774128942
Spatial Reference: 102100
(0)
LatestVCSWkid(0)
Full Extent:
XMin: -1.3580749011917759E7
YMin: 4474361.633412661
XMax: -1.357122399286772E7
YMax: 4482219.774128942
Spatial Reference: 102100
(0)
LatestVCSWkid(0)
Units: esriMeters
Supported Image Format Types: PNG32,PNG24,PNG,JPG,DIB,TIFF,EMF,PS,PDF,GIF,SVG,SVGZ,BMP
Document Info:
Title: Zoning Labels
Author:
Comments: Zoning Labels Map: Annotation 0 to 10K, Auto-labeled >10K. Tiled service (144K to 282), Web Mercator (WKID3857), data stored in local projection (2227).
Subject: Zoning Labels Map: Annotation 0 to 10K, Auto-labeled >10K. Tiled service (144K to 282), Web Mercator (WKID3857), data stored in local projection (2227).
Category:
Keywords: City of Campbell,Planning,Zoning
AntialiasingMode: Fast
TextAntialiasingMode: Force
Supports Dynamic Layers: true
Resampling: false
MaxRecordCount: 100
MaxSelectionCount: 2000
MaxImageHeight: 4096
MaxImageWidth: 4096
Supported Query Formats: JSON, geoJSON, PBF
Supports Query Data Elements: true
Min Scale: 144447.638572
Max Scale: 282.124294
Min LOD: 12
Max LOD: 21
Supports Datum Transformation: true
Child Resources:
Info
Dynamic Layer
Supported Operations:
Export Map
Identify
QueryLegends
QueryDomains
Find
Return Updates