View In:
ArcGIS JavaScript
ArcGIS Online Map Viewer
ArcGIS Earth
ArcGIS Pro
Service Description: <DIV STYLE="text-align:Left;font-size:12pt"><DIV><P><SPAN>Traffic Analysis Zones, from Santa Clara County Open Data, tiled to 1:282, WGS84 (3857)</SPAN></P></DIV></DIV>
Map Name: Traffic Analysis Zones
Legend
All Layers and Tables
Dynamic Legend
Dynamic All Layers
Layers:
Description: Traffic Analysis Zones, from Santa Clara County Open Data, tiled to 1:282, WGS84 (3857)
Service Item Id: 225201a8b8e54e7abcf5f2a85edfbd3e
Copyright Text:
Spatial Reference:
102100
(3857)
LatestVCSWkid(0)
Single Fused Map Cache: true
Tile Info:
- Height: 256.0
- Width: 256.0
- DPI: 96.0
-
Levels of Detail: 24
-
Level ID: 1
[ Start Tile, End Tile ]
- Resolution: 78271.5169639999
- Scale: 2.95828763795777E8
-
Level ID: 2
[ Start Tile, End Tile ]
- Resolution: 39135.7584820001
- Scale: 1.47914381897889E8
-
Level ID: 3
[ Start Tile, End Tile ]
- Resolution: 19567.8792409999
- Scale: 7.3957190948944E7
-
Level ID: 4
[ Start Tile, End Tile ]
- Resolution: 9783.93962049996
- Scale: 3.6978595474472E7
-
Level ID: 5
[ Start Tile, End Tile ]
- Resolution: 4891.96981024998
- Scale: 1.8489297737236E7
- Format: PNG
- Compression Quality: 0.0
- Origin: X: -2.0037508342787E7
Y: 2.0037508342787E7
- Spatial Reference: 102100
(3857)
LatestVCSWkid(0)
Storage Info:
- Storage Format: esriMapCacheStorageModeCompactV2
- Packet Size: 128
Initial Extent:
XMin: -1.358702686602462E7
YMin: 4470143.474539731
XMax: -1.356590780107538E7
YMax: 4485617.034560267
Spatial Reference: 102100
(0)
LatestVCSWkid(0)
Full Extent:
XMin: -1.358702686602462E7
YMin: 4470709.228764996
XMax: -1.3565907801075382E7
YMax: 4485051.280335002
Spatial Reference: 102100
(0)
LatestVCSWkid(0)
Units: esriMeters
Supported Image Format Types: PNG32,PNG24,PNG,JPG,DIB,TIFF,EMF,PS,PDF,GIF,SVG,SVGZ,BMP
Document Info:
Title: Traffic Analysis Zones
Author:
Comments: Traffic Analysis Zones, from Santa Clara County Open Data, tiled to 1:282, WGS84 (3857)
Subject: Traffic Analysis Zones, from Santa Clara County Open Data, tiled 144k to 1:282, WGS84 (3857)
Category:
Keywords: Traffic Analysis Zones,Campbell,Santa Clara County,CA
AntialiasingMode: Fast
TextAntialiasingMode: Force
Supports Dynamic Layers: true
Resampling: false
MaxRecordCount: 500
MaxSelectionCount: 2000
MaxImageHeight: 4096
MaxImageWidth: 4096
Supported Query Formats: JSON, geoJSON, PBF
Supports Query Data Elements: true
Min Scale: 144447.638572
Max Scale: 282.124294
Min LOD: 12
Max LOD: 21
Supports Datum Transformation: true
Child Resources:
Info
Dynamic Layer
Supported Operations:
Export Map
Identify
QueryLegends
QueryDomains
Find
Return Updates