View In:
ArcGIS JavaScript
ArcGIS Online Map Viewer
ArcGIS Earth
ArcGIS Pro
Service Description: <DIV STYLE="text-align:Left;font-size:12pt"><DIV><DIV><P><SPAN>2050 Households Data, Point Feature, No data, inherited fr. City for Housing Element Project, Tiled (to 1:282), Data stored in local CA SPZ3, (2227) service in WGS84 (3857)</SPAN></P></DIV></DIV></DIV>
Map Name: HouseholdsData2050
Legend
All Layers and Tables
Dynamic Legend
Dynamic All Layers
Layers:
Description: 2050 Households Data, Point Feature, No data, inherited fr. City for Housing Element Project, Tiled (to 1:282), Data stored in local CA SPZ3, (2227) service in WGS84 (3857)
Service Item Id: 0d395fa726fe4052bea14b3520a5af28
Copyright Text:
Spatial Reference:
102100
(3857)
LatestVCSWkid(0)
Single Fused Map Cache: true
Tile Info:
- Height: 256.0
- Width: 256.0
- DPI: 96.0
-
Levels of Detail: 24
-
Level ID: 1
[ Start Tile, End Tile ]
- Resolution: 78271.5169639999
- Scale: 2.95828763795777E8
-
Level ID: 2
[ Start Tile, End Tile ]
- Resolution: 39135.7584820001
- Scale: 1.47914381897889E8
-
Level ID: 3
[ Start Tile, End Tile ]
- Resolution: 19567.8792409999
- Scale: 7.3957190948944E7
-
Level ID: 4
[ Start Tile, End Tile ]
- Resolution: 9783.93962049996
- Scale: 3.6978595474472E7
-
Level ID: 5
[ Start Tile, End Tile ]
- Resolution: 4891.96981024998
- Scale: 1.8489297737236E7
- Format: PNG
- Compression Quality: 0.0
- Origin: X: -2.0037508342787E7
Y: 2.0037508342787E7
- Spatial Reference: 102100
(3857)
LatestVCSWkid(0)
Storage Info:
- Storage Format: esriMapCacheStorageModeCompactV2
- Packet Size: 128
Initial Extent:
XMin: -1.358183389868141E7
YMin: 4474032.94992385
XMax: -1.3570095670963608E7
YMax: 4482633.338793465
Spatial Reference: 102100
(0)
LatestVCSWkid(0)
Full Extent:
XMin: -1.358183389868141E7
YMin: 4474182.9685607385
XMax: -1.3570095670963608E7
YMax: 4482483.320156576
Spatial Reference: 102100
(0)
LatestVCSWkid(0)
Units: esriMeters
Supported Image Format Types: PNG32,PNG24,PNG,JPG,DIB,TIFF,EMF,PS,PDF,GIF,SVG,SVGZ,BMP
Document Info:
Title: 2050 Households Data
Author:
Comments: 2050 Households Data, Point Feature, No data, inherited fr. City for Housing Element Project, Tiled (to 1:282), Data stored in local CA SPZ3, (2227) service in WGS84 (3857)
Subject: 2050 Households Data, Point Feature, No data, inherited fr. City for Housing Element Project, Tiled (to 1:282), Data stored in local CA SPZ3, (2227) service in WGS84 (3857)
Category:
Keywords: Campbell,Santa Clara County,MTC,VTA,2050 Households Data
AntialiasingMode: Fast
TextAntialiasingMode: Force
Supports Dynamic Layers: true
Resampling: false
MaxRecordCount: 20000
MaxSelectionCount: 2000
MaxImageHeight: 4096
MaxImageWidth: 4096
Supported Query Formats: JSON, geoJSON, PBF
Supports Query Data Elements: true
Min Scale: 144447.638572
Max Scale: 282.124294
Min LOD: 12
Max LOD: 21
Supports Datum Transformation: true
Child Resources:
Info
Dynamic Layer
Supported Operations:
Export Map
Identify
QueryLegends
QueryDomains
Find
Return Updates