View In:
ArcGIS JavaScript
ArcGIS Online Map Viewer
ArcGIS Earth
ArcGIS Pro
Service Description: <DIV STYLE="text-align:Left;font-size:12pt"><P><SPAN>Annexation labels (FL anno) (0-10K) and auto-labeled (>10K) data stored in local proj. WKID 2227, service is tiled (64K to 282), WGS84</SPAN></P></DIV>
Map Name: AnnexationLabel
Legend
All Layers and Tables
Dynamic Legend
Dynamic All Layers
Layers:
Description: Annexation labels (FL anno) (0-10K) and auto-labeled (>10K) data stored in local proj. WKID 2227, service is tiled (64K to 282), WGS84
Service Item Id: 5d28dbc6f9d54da4aeb2cd5e0e8d5c59
Copyright Text:
Spatial Reference:
102100
(3857)
LatestVCSWkid(0)
Single Fused Map Cache: true
Tile Info:
- Height: 256.0
- Width: 256.0
- DPI: 96.0
-
Levels of Detail: 24
-
Level ID: 1
[ Start Tile, End Tile ]
- Resolution: 78271.5169639999
- Scale: 2.95828763795777E8
-
Level ID: 2
[ Start Tile, End Tile ]
- Resolution: 39135.7584820001
- Scale: 1.47914381897889E8
-
Level ID: 3
[ Start Tile, End Tile ]
- Resolution: 19567.8792409999
- Scale: 7.3957190948944E7
-
Level ID: 4
[ Start Tile, End Tile ]
- Resolution: 9783.93962049996
- Scale: 3.6978595474472E7
-
Level ID: 5
[ Start Tile, End Tile ]
- Resolution: 4891.96981024998
- Scale: 1.8489297737236E7
- Format: PNG
- Compression Quality: 0.0
- Origin: X: -2.0037508342787E7
Y: 2.0037508342787E7
- Spatial Reference: 102100
(3857)
LatestVCSWkid(0)
Storage Info:
- Storage Format: esriMapCacheStorageModeCompactV2
- Packet Size: 128
Initial Extent:
XMin: -1.3581846755211093E7
YMin: 4474535.992297984
XMax: -1.3570301688080557E7
YMax: 4482071.340702013
Spatial Reference: 102100
(0)
LatestVCSWkid(0)
Full Extent:
XMin: -1.3581641066112846E7
YMin: 4474535.992297984
XMax: -1.3570507377178803E7
YMax: 4482071.340702013
Spatial Reference: 102100
(0)
LatestVCSWkid(0)
Units: esriMeters
Supported Image Format Types: PNG32,PNG24,PNG,JPG,DIB,TIFF,EMF,PS,PDF,GIF,SVG,SVGZ,BMP
Document Info:
Title: City of Campbell
Author:
Comments: Annexation labels (FL anno) (0-10K) and auto-labeled (>10K) data stored in local proj. WKID 2227, service is tiled (64K to 282), WGS84
Subject: Annexation labels (FL anno) (0-10K) and auto-labeled (>10K) data stored in local proj. WKID 2227, service is tiled (64K to 282), WGS84
Category:
Keywords: City of Campbell,Annexation
AntialiasingMode: Fast
TextAntialiasingMode: Force
Supports Dynamic Layers: true
Resampling: false
MaxRecordCount: 100
MaxSelectionCount: 2000
MaxImageHeight: 4096
MaxImageWidth: 4096
Supported Query Formats: JSON, geoJSON, PBF
Supports Query Data Elements: true
Min Scale: 144447.638572
Max Scale: 282.124294
Min LOD: 12
Max LOD: 21
Supports Datum Transformation: true
Child Resources:
Info
Dynamic Layer
Supported Operations:
Export Map
Identify
QueryLegends
QueryDomains
Find
Return Updates