View In:
ArcGIS JavaScript
ArcGIS Online Map Viewer
ArcGIS Earth
ArcGIS Pro
Service Description: <div style='text-align:Left;font-size:12pt'><p><span>Permits issued by Code Enforcement. Data from MGO with def queries by Status, tiled 144k to 282, WGS84 (WKID 3857) projection</span></p></div>
Map Name: Permits Service Code Enforcement Closed
Legend
All Layers and Tables
Dynamic Legend
Dynamic All Layers
Layers:
Description: Permits issued by Code Enforcement. Data from MGO with def queries by Status, tiled 144k to 282, WGS84 (WKID 3857) projection
Service Item Id: e024b9b5d0ab46d98fb68fb3339d9a07
Copyright Text:
Spatial Reference:
102100
(3857)
LatestVCSWkid(0)
Single Fused Map Cache: true
Tile Info:
- Height: 256.0
- Width: 256.0
- DPI: 96.0
-
Levels of Detail: 24
-
Level ID: 1
[ Start Tile, End Tile ]
- Resolution: 78271.5169639999
- Scale: 2.95828763795777E8
-
Level ID: 2
[ Start Tile, End Tile ]
- Resolution: 39135.7584820001
- Scale: 1.47914381897889E8
-
Level ID: 3
[ Start Tile, End Tile ]
- Resolution: 19567.8792409999
- Scale: 7.3957190948944E7
-
Level ID: 4
[ Start Tile, End Tile ]
- Resolution: 9783.93962049996
- Scale: 3.6978595474472E7
-
Level ID: 5
[ Start Tile, End Tile ]
- Resolution: 4891.96981024998
- Scale: 1.8489297737236E7
- Format: PNG
- Compression Quality: 0.0
- Origin: X: -2.0037508342787E7
Y: 2.0037508342787E7
- Spatial Reference: 102100
(3857)
LatestVCSWkid(0)
Storage Info:
- Storage Format: esriMapCacheStorageModeCompactV2
- Packet Size: 128
Initial Extent:
XMin: -1.3583043662997385E7
YMin: 4472933.820697356
XMax: -1.35688202993603E7
YMax: 4483751.590224154
Spatial Reference: 102100
(0)
LatestVCSWkid(0)
Full Extent:
XMin: -1.3581107662363648E7
YMin: 4474319.383234563
XMax: -1.3570756299994037E7
YMax: 4482366.027686947
Spatial Reference: 102100
(0)
LatestVCSWkid(0)
Units: esriMeters
Supported Image Format Types: PNG32,PNG24,PNG,JPG,DIB,TIFF,EMF,PS,PDF,GIF,SVG,SVGZ,BMP
Document Info:
Title: Code Enforcement
Author:
Comments: Permits issued by Code Enforcement. Data from MGO with def queries by Status, tiled 144k to 282, WGS84 (WKID 3857) projection
Subject: Permits issued by Code Enforcement. Closed cases. Data from MGO with def queries by Status, tiled 144k to 282, feature access no editing, WGS84 (WKID 3857) projection
Category:
Keywords: Campbell,Permits,Code Enforcement,MGO
AntialiasingMode: Fast
TextAntialiasingMode: Force
Supports Dynamic Layers: true
MaxRecordCount: 10000
MaxSelectionCount: 2000
MaxImageHeight: 4096
MaxImageWidth: 4096
Supported Query Formats: JSON, geoJSON, PBF
Supports Query Data Elements: true
Min Scale: 144447.638572
Max Scale: 282.124294
Min LOD: 12
Max LOD: 21
Supports Datum Transformation: true
Child Resources:
Info
Dynamic Layer
Supported Operations:
Export Map
Identify
QueryLegends
QueryDomains
Find
EstimateExportTilesSize
ExportTiles
Return Updates